BEGIN:VCALENDAR
PRODID:NingEventWidget-v1
VERSION:2.0
METHOD:PUBLISH
BEGIN:VEVENT
UID:1171189:Event:94168
DTSTAMP:20260421T223751Z
SUMMARY:Egleston Farmers Market
DESCRIPTION:Egleston Farmers Market will be open Saturday, February 23
  and Saturday March 3 from 11am-2pm.  Jamaica Plain's first winter ma
 rket features local produce, cheese, meat, eggs, fish, baked goods and
  other treats.  Free music, coffee and children's activities.  At Ou
 r Lady of Lourdes, 45 Brookside Ave, Jamaica Plain, MA 02130.  Visit 
 www.eglestonfarmersmarket.com.\n\nFor more information visit http://ne
 ighborsforneighbors.org/events/egleston-farmers-market-7
DTSTART:20130223T160000Z
DTEND:20130223T190000Z
CATEGORIES:farmers, market
LOCATION:Our Lady of Lourdes
WEBSITE:http://www.eglestonfarmersmarket.org
URL:http://www.eglestonfarmersmarket.org
CONTACT:617-669-4891
ORGANIZER;CN="Myrna Greenfield":http://neighborsforneighbors.org/profi
 le/MyrnaGreenfield
ATTACH;FMTTYPE="image/jpeg":
ATTENDEE;ROLE=REQ-PARTICIPANT;PARTSTAT=ACCEPTED;RSVP=TRUE;CN="Myrna Gr
 eenfield":http://neighborsforneighbors.org/profile/MyrnaGreenfield
END:VEVENT
END:VCALENDAR
