BEGIN:VCALENDAR
PRODID:NingEventWidget-v1
VERSION:2.0
METHOD:PUBLISH
BEGIN:VEVENT
UID:1171189:Event:94171
DTSTAMP:20260421T232620Z
SUMMARY:Egleston Farmers Market
DESCRIPTION:Egleston Farmers Market will be open one extra day, Saturd
 ay, March 2! Jamaica Plain's first winter market features local produc
 e, cheese, meat, eggs, fish, baked goods and other treats.  Free musi
 c, coffee and children's activities.\n\nFor more information visit htt
 p://neighborsforneighbors.org/events/egleston-farmers-market-8
DTSTART:20130216T160000Z
DTEND:20130216T190000Z
CATEGORIES:farmers, market
LOCATION:Our Lady of Lourdes Parish Hall
WEBSITE:http://www.eglestonfarmersmarket.org
URL:http://www.eglestonfarmersmarket.org
CONTACT:617-669-4891
ORGANIZER;CN="Myrna Greenfield":http://neighborsforneighbors.org/profi
 le/MyrnaGreenfield
ATTACH;FMTTYPE="image/jpeg":
ATTENDEE;ROLE=REQ-PARTICIPANT;PARTSTAT=ACCEPTED;RSVP=TRUE;CN="Myrna Gr
 eenfield":http://neighborsforneighbors.org/profile/MyrnaGreenfield
END:VEVENT
END:VCALENDAR
