BEGIN:VCALENDAR
PRODID:NingEventWidget-v1
VERSION:2.0
METHOD:PUBLISH
BEGIN:VEVENT
UID:1171189:Event:93838
DTSTAMP:20260421T234223Z
SUMMARY:Egleston Farmers Market
DESCRIPTION:Egleston Farmers Market will be open one extra Saturday be
 fore it closes for the season.  Jamaica Plain's first winter market f
 eatures local produce, cheese, meat, eggs, fish, baked goods and other
  treats.  Free music, coffee and children's activities.\n\nFor more i
 nformation visit http://neighborsforneighbors.org/events/egleston-farm
 ers-market-9
DTSTART:20130302T160000Z
DTEND:20130302T190000Z
CATEGORIES:farmers, market
LOCATION:Our Lady of Lourdes Parish Hall
WEBSITE:http://www.eglestonfarmersmarket.org
URL:http://www.eglestonfarmersmarket.org
CONTACT:
ORGANIZER;CN="Myrna Greenfield":http://neighborsforneighbors.org/profi
 le/MyrnaGreenfield
ATTACH;FMTTYPE="image/jpeg":
ATTENDEE;ROLE=REQ-PARTICIPANT;PARTSTAT=ACCEPTED;RSVP=TRUE;CN="Myrna Gr
 eenfield":http://neighborsforneighbors.org/profile/MyrnaGreenfield
END:VEVENT
END:VCALENDAR
