BEGIN:VCALENDAR
PRODID:NingEventWidget-v1
VERSION:2.0
METHOD:PUBLISH
BEGIN:VEVENT
UID:1171189:Event:92007
DTSTAMP:20260421T195606Z
SUMMARY:Egleston Farmers Market
DESCRIPTION:Jamaica Plain’s first winter farmers market will feature
  fresh, healthy, locally-grown and produced foods as well as music, ar
 t, and a free coffee corner. The Egleston Farmers Market opens Saturda
 y, November 10, 11am-2pm, and will take place on November 17, December
  8 and 15, and each Saturday in January and February, rain or shine. S
 hoppers will be able to purchase local produce, meat, eggs, cheese, fi
 sh, bread, and prepared foods, such as hummus and baked goods. EBT/SNA
 P payments accepted, with matching Bounty Bucks.  For more info, visi
 t www.eglestonfarmersmarket.org or call .\n\nFor more information visi
 t http://neighborsforneighbors.org/events/egleston-farmers-market
DTSTART:20121110T160000Z
DTEND:20121110T190000Z
CATEGORIES:farmers, market
LOCATION:Our Lady of Lourdes Parish Hall
WEBSITE:http://www.eglestonfarmersmarket.org
URL:http://www.eglestonfarmersmarket.org
CONTACT:(617) 942-0194
ORGANIZER:Kate Peppard
ATTACH;FMTTYPE="image/jpeg":
ATTENDEE;ROLE=REQ-PARTICIPANT;PARTSTAT=ACCEPTED;RSVP=TRUE;CN="Myrna Gr
 eenfield":http://neighborsforneighbors.org/profile/MyrnaGreenfield
END:VEVENT
END:VCALENDAR
