BEGIN:VCALENDAR
PRODID:NingEventWidget-v1
VERSION:2.0
METHOD:PUBLISH
BEGIN:VEVENT
UID:1171189:Event:59166
DTSTAMP:20260421T194349Z
SUMMARY:Egleston Square Community Dialogue
DESCRIPTION:Black. White. Latino. Asian. We all want a better, safer n
 eighborhood. Explore our differences and our shared hopes, and help cr
 eate a plan for a better community.\n\nEgleston Square Community Dialo
 gue on Ethnic and Racial Diversity\n\nDialogue Runs for 4 or 5 Weeks (
 5th Week at Discretion of the Group)\n\nJan 8, 15, 22, 29, Feb 5 10:00
  am – 12:00 pm\n\nLearn More: dialogues@ywcaboston.org\n\nRegister O
 nline: www.ywcaboston.org/enroll\n\nSponsored by Friends of Egleston S
 quare Branch Library\nKid Friendly Environment for Parents to Leave Ki
 ds, but Participants 18+ please\n\nFor more information visit http://n
 eighborsforneighbors.org/events/egleston-square-community-1
DTSTART:20110108T150000Z
DTEND:20110108T170000Z
CATEGORIES:community, "gathering/dialogue"
LOCATION:Egleston Square Branch Library
WEBSITE:http://maps.google.com/maps?oe=utf-8&rls=org.mozilla:en-US:off
 icial&client=firefox-a&um=1&ie=UTF-8&q=2044+columbus+ave&fb=1&gl=us&hn
 ear=Boston,+MA&cid=0,0,6022334804294780859&ei=KMj_TJfKEMT48AbGhpyjBw&s
 a=X&oi=local_result&ct=image&resnum=1&ved=0CBQQnwIwAA
URL:http://maps.google.com/maps?oe=utf-8&rls=org.mozilla:en-US:officia
 l&client=firefox-a&um=1&ie=UTF-8&q=2044+columbus+ave&fb=1&gl=us&hnear=
 Boston,+MA&cid=0,0,6022334804294780859&ei=KMj_TJfKEMT48AbGhpyjBw&sa=X&
 oi=local_result&ct=image&resnum=1&ved=0CBQQnwIwAA
CONTACT:(617) 445-4340
ORGANIZER:Friends of Egleston Square Branch Library
ATTACH;FMTTYPE="image/jpeg":http://storage.ning.com/topology/rest/1.0/
 file/get/2245131074?profile=original
ATTENDEE;ROLE=REQ-PARTICIPANT;PARTSTAT=ACCEPTED;RSVP=TRUE;CN="Brandon 
 Abbs":http://neighborsforneighbors.org/profile/BrandonAbbs
ATTENDEE;ROLE=REQ-PARTICIPANT;PARTSTAT=TENTATIVE;RSVP=TRUE;CN="ld farr
 ell":http://neighborsforneighbors.org/profile/ldfarrell
END:VEVENT
END:VCALENDAR
