BEGIN:VCALENDAR
PRODID:NingEventWidget-v1
VERSION:2.0
METHOD:PUBLISH
BEGIN:VEVENT
UID:1171189:Event:83697
DTSTAMP:20260421T181937Z
SUMMARY:Egleston Square Community Dinner
DESCRIPTION: \nEnjoy great food from local restaurants, meet your nei
 ghbors,\nand celebrate what makes Egleston Square a great neighborhood
  in which to live, work and shop.\n \n$10 suggested donation at the d
 oor\nRSVP today!\n\nFor more information visit http://neighborsforneig
 hbors.org/events/egleston-square-community-dinner
DTSTART:20111110T230000Z
DTEND:20111111T010000Z
CATEGORIES:community, dinner
LOCATION:Greater Egleston Community High School
WEBSITE:http://www.facebook.com/#!/events/165635800193467/
URL:http://www.facebook.com/#!/events/165635800193467/
CONTACT:617-522-7752
ORGANIZER;CN="Betsy Cowan":http://neighborsforneighbors.org/profile/Be
 tsyCowan
ATTACH;FMTTYPE="image/jpeg":http://storage.ning.com/topology/rest/1.0/
 file/get/2245136889?profile=original
ATTENDEE;ROLE=REQ-PARTICIPANT;PARTSTAT=ACCEPTED;RSVP=TRUE;CN="Betsy Co
 wan":http://neighborsforneighbors.org/profile/BetsyCowan
END:VEVENT
END:VCALENDAR
