BEGIN:VCALENDAR
PRODID:NingEventWidget-v1
VERSION:2.0
METHOD:PUBLISH
BEGIN:VEVENT
UID:1171189:Event:89584
DTSTAMP:20260421T214908Z
SUMMARY:Egleston Square Wake Up the Earth Parade
DESCRIPTION:Celebrate the rebirth of the Egleston Square Wake Up the E
 arth Parade! Come appreciate the diversity of the neighborhoods in Rox
 bury through culture, music, theatre, local food, and local artisans w
 hile enjoying our neighborhood in bloom. Feel free to bring costumes, 
 banners, and musical instruments. Get ready to dance! The parade will 
 begin at the Egleston Square YMCA, travel down Washington Street and C
 olumbus Avenue, and will join with the Centre Street Wake Up the Earth
  Parade near Jackson Square. Gather at the Egleston Square YMCA on 313
 4 Washington Street, Roxbury, MA 02130 at 10:00am. Brought to you by D
 iscover Roxbury, Egleston Square Main Street, and Franklin Park Coalit
 ion. For more information and directions: www.franklinparkcoalition.or
 g or 617-442-4141. \n\nFor more information visit http://neighborsfor
 neighbors.org/events/egleston-square-wake-up-the-earth-parade
DTSTART:20120505T150000Z
DTEND:20120505T200000Z
CATEGORIES:parade
LOCATION:Washington Street, to Egleston Square, to Columbus, to Centre
  Street
WEBSITE:http://www.franklinparkcoalition.org
URL:http://www.franklinparkcoalition.org
CONTACT:617-442-4141
ORGANIZER:Discover Roxbury, Egleston Square Main Street, and Franklin 
 Park Coalition
ATTACH;FMTTYPE="image/jpeg":
ATTENDEE;ROLE=REQ-PARTICIPANT;PARTSTAT=ACCEPTED;RSVP=TRUE;CN="Christin
 e Poff":http://neighborsforneighbors.org/profile/ChristinePoff67
END:VEVENT
END:VCALENDAR
