BEGIN:VCALENDAR
PRODID:NingEventWidget-v1
VERSION:2.0
METHOD:PUBLISH
BEGIN:VEVENT
UID:1171189:Event:93026
DTSTAMP:20260421T200621Z
SUMMARY:Egleston Winter Farmers Market
DESCRIPTION:We have a great week ahead of us.  In addition to our usu
 al fantastic line-up of vendors, we also have the following featured v
 endors and items:\n\nCoffee Corner Sponsor: FAZENDA!\nCraft Corner: Ge
 orge Anastos has a great craft planned (magnets - useful AND cute)\nFo
 od Truck: Mei Mei!\nGuy Mendilow is hooking us up with great music!\nG
 uest Vendors:\nI'm Solar Hot: providing information on the benefits of
  solar energy, \nViridian: Energy service that saves you money and gi
 ves back to the community\nAgricultural Hall: JP grown business suppor
 ting urban gardening, chicken raising, bee keeping and more\n\n\nGo Lo
 cal Metro Boston is at the market and is working with our vendors to d
 evelop deals for card holders.  Stop by the information desk to find 
 out what the deals are this week and pick up a card while you are at i
 t.\n\nYou will notice a couple of our usual farmers missing: Buckle Fa
 rm (Jim is taking a much deserved vacation) and Urban Hydr-O Growers (
 they are having a big kick-off for their program this Saturday).  BUT
 , I am thrilled to announce that we have lined up two guest farmers: 
 The Neighborhood Farm (http://www.theneighborhoodfarm.com) and Brook
 wood Community Farm (http://brookwoodcommunityfarm.org/).\nAnd finall
 y... we are going to start accepting credit/debit cards at the market!
   The process will be similar to Bounty Bucks - you need to come to t
 he info table and buy \"market dollars\" with your credit/debit card. 
  You can then spend these with our vendors.\n\n\nFor more information
  visit http://neighborsforneighbors.org/events/egleston-winter-farmers
 -market
DTSTART:20130117T230000Z
DTEND:20130118T000000Z
CATEGORIES:"farmer's", market
LOCATION:Our Lady of Lourdes Parish Center
WEBSITE:https://maps.google.com/maps?q=45+Brookside+Ave,+Boston,+MA&hl
 =en&sll=42.31435,-70.970284&sspn=0.414322,0.891953&oq=45&t=h&hnear=45+
 Brookside+Ave,+Boston,+Suffolk,+Massachusetts+02130&z=17
URL:https://maps.google.com/maps?q=45+Brookside+Ave,+Boston,+MA&hl=en&
 sll=42.31435,-70.970284&sspn=0.414322,0.891953&oq=45&t=h&hnear=45+Broo
 kside+Ave,+Boston,+Suffolk,+Massachusetts+02130&z=17
CONTACT:
ORGANIZER;CN="Mike Steinhoff":http://neighborsforneighbors.org/profile
 /MikeSteinhoff
ATTACH;FMTTYPE="image/jpeg":
ATTENDEE;ROLE=REQ-PARTICIPANT;PARTSTAT=ACCEPTED;RSVP=TRUE;CN="Mike Ste
 inhoff":http://neighborsforneighbors.org/profile/MikeSteinhoff
END:VEVENT
END:VCALENDAR
