BEGIN:VCALENDAR
PRODID:NingEventWidget-v1
VERSION:2.0
METHOD:PUBLISH
BEGIN:VEVENT
UID:1171189:Event:92271
DTSTAMP:20260421T223746Z
SUMMARY:Election Night Viewing Party with SoJust and NLC Boston
DESCRIPTION:Join Socializing for Justice, and our co-host New Leaders 
 Council's Boston Chapter, at The Landsdowne on November 6th at 8PM to 
 de-brief, de-compress and de-stress as we watch the results come in.Yo
 u SoJust Voted, you made phone calls, you knocked on doors, you donate
 d, and now that election season is coming to a close, you SoJust need 
 to relax. Whether we’re tearing our hair out or celebrating, it’s 
 safe to say we could use a drink.RSVP at http://www.sojust.org/ - newc
 omers always welcomeCost: $5-$10 collected at the door. Free Admission
  with an “I Voted!” sticker.The Lansdowne, 9 Lansdowne Street, Bos
 tonVenue is physically accessible, must be 21+Complimentary appetizers
  - cash barBut please remember to vote first! Find your polling place 
 at http://www.wheredoivotema.com/ and see who progressive organization
 s have endorsed at http://www.SoJustVote.com/Directions: Take the Gree
 n line to Kenmore Square, bear left onto Brookline Avenue and take the
  second left onto Lansdowne Street.As always, we'll help you meet peop
 le - so no worries if you're new to SoJust.Want to cross-promote your 
 events and campaigns? Looking for like-minded progressives to hang out
  with in Boston? Are you new to the area and looking for groups to get
  involved in? Psyched about building strong cross-issue coalitions? Jo
 in us!YES, WE MEAN YOU. Members are all ages, races, genders, sexual o
 rientations, levels of activism and professions. Some just moved to Bo
 ston and others were born here. We hope you see someone like yourself 
 and meet someone you otherwise wouldn't have.------------------SOCIALI
 ZING FOR JUSTICE - http://www.sojust.org/SoJust is not a non-profit 50
 1(c)(3). We're a grassroots volunteer-run member-supported cross-issue
  progressive community that's been growing steadily since August 2006.
  We have 2100+ members, hosted 130+ events and manage an online hub of
  progressive events and resources at http://www.sojust.org/. If you've
  benefited from this cross-issue progressive network, please contribut
 e the suggested annual membership fee of $25. You may do this online a
 t http://www.sojust.org/donate or at any of our events. Thank you for 
 helping us continue to provide a space for like-minded progressives of
  all stripes.Want to know more about SoJust? Check out our Frequently 
 Asked Questions and past event photos!\n\nFor more information visit h
 ttp://neighborsforneighbors.org/events/election-night-viewing-party-wi
 th-sojust-and-nlc-boston
DTSTART:20121107T010000Z
DTEND:20121107T030000Z
CATEGORIES:election, night, viewing, party
LOCATION:The Landsdowne Pub
WEBSITE:
URL:
CONTACT:
ORGANIZER;CN="Socializing for Justice":http://neighborsforneighbors.or
 g/profile/SocializingforJustice71
ATTACH;FMTTYPE="image/jpeg":http://storage.ning.com/topology/rest/1.0/
 file/get/2245140406?profile=original
ATTENDEE;ROLE=REQ-PARTICIPANT;PARTSTAT=ACCEPTED;RSVP=TRUE;CN="Socializ
 ing for Justice":http://neighborsforneighbors.org/profile/Socializingf
 orJustice71
END:VEVENT
END:VCALENDAR
