BEGIN:VCALENDAR
PRODID:NingEventWidget-v1
VERSION:2.0
METHOD:PUBLISH
BEGIN:VEVENT
UID:1171189:Event:34358
DTSTAMP:20260421T163553Z
SUMMARY:Electrolytic Etching Workshop this Sat Feb 6th!
DESCRIPTION:Learn how to construct your own etching station at home us
 ing a less toxic method. This is a great introduction to the etching p
 rocess! Contact us for more details. Bring a high resolution image wit
 h you.\n\nFor more information visit http://neighborsforneighbors.org/
 events/electrolytic-etching-workshop
DTSTART:20100206T150000Z
DTEND:20100206T213000Z
CATEGORIES:art, workshop
LOCATION:Stonybrook Fine Arts
WEBSITE:http://www.stonybrookfinearts.com/
URL:http://www.stonybrookfinearts.com/
CONTACT:617-522-3331
ORGANIZER;CN="Stonybrook Fine Arts":http://neighborsforneighbors.org/p
 rofile/StonybrookFineArts
ATTACH;FMTTYPE="image/jpeg":
ATTENDEE;ROLE=REQ-PARTICIPANT;PARTSTAT=ACCEPTED;RSVP=TRUE;CN="Stonybro
 ok Fine Arts":http://neighborsforneighbors.org/profile/StonybrookFineA
 rts
END:VEVENT
END:VCALENDAR
