BEGIN:VCALENDAR
PRODID:NingEventWidget-v1
VERSION:2.0
METHOD:PUBLISH
BEGIN:VEVENT
UID:1171189:Event:74552
DTSTAMP:20260422T004011Z
SUMMARY:Eliot School Student-Faculty Show
DESCRIPTION:Come check out the Eliot School annual show of crafts and 
 fine arts by current and recent students and faculty.\nWoodworking, fu
 rniture, sewing and fiber arts, painting, drawing, children’s art an
 d more.\n\nFor more information visit http://neighborsforneighbors.org
 /events/eliot-school-studentfaculty
DTSTART:20110605T190000Z
DTEND:20110605T220000Z
CATEGORIES:art, show
LOCATION:Eliot School
WEBSITE:http://eliotschool.org/events/student-faculty-show
URL:http://eliotschool.org/events/student-faculty-show
CONTACT:617-524-3313
ORGANIZER:Eliot School
ATTACH;FMTTYPE="image/jpeg":
ATTENDEE;ROLE=REQ-PARTICIPANT;PARTSTAT=ACCEPTED;RSVP=TRUE;CN="Jenny Jo
 nes":http://neighborsforneighbors.org/profile/JennyJones
END:VEVENT
END:VCALENDAR
