BEGIN:VCALENDAR
PRODID:NingEventWidget-v1
VERSION:2.0
METHOD:PUBLISH
BEGIN:VEVENT
UID:1171189:Event:104482
DTSTAMP:20260421T204143Z
SUMMARY:Eliot Street Coffeehouse Presents The Bombadils
DESCRIPTION:There's a new coffeehouse in town, the Eliot Street Coffee
 house! A co-operative production of notloB Parlour Concerts and the El
 iot Street Soiree, presented in the beautiful First Church of Jamaica 
 Plain parish hall.  Friday, November 22 - THE BOMBADILS Event - https:
 //www.facebook.com/events/574245522632537/ http://www.thebombadils.com
 / https://www.facebook.com/thebombadils  The Bombadils are a ridiculou
 s and kind-hearted bunch of rascals disguised as a four-piece folk ban
 d. Originating from Vancouver, Edmonton, and Halifax, they met in 2009
  at McGill University's Schulich School of Music in Montréal, where t
 hey were pursuing their studies in jazz and classical music. These mus
 ical influences carry over into their love of folk music which include
 s Irish, bluegrass and Canadian and American old time.  Anh Phung, on 
 Irish whistles and flute, is a stunning presence and spunky improviser
 . She has twice been awarded the Galaxie Rising Star Award as well as 
 1st place in the Canadian Music Competition. She performs regularly wi
 th notable artists such as blues man Carl Tremblay and John McGale, of
  Offenbach. Anh plays as though through telepathic communication with 
 kooky and happy-go-lucky fiddler and vocalist, Sarah Frank. Sarah has 
 travelled the continent performing and studying with key figures of tr
 aditional folk music such as Peter Yarrow, (Peter, Paul, and Mary), Al
 asdair Fraser, Natalie Haas, Laura Cortese, and Pierre Shryer. Luke Fr
 aser on guitar, mandolin, and lead vocals grew up on the musical tradi
 tions of Nova Scotia, where he has performed as part of the vibrant Ma
 ritime music scene, including The Rankins' own Red Shoe Pub and the Ha
 lifax Jazz festival. Evan Stewart, upright bass, has performed at the 
 Montreal Jazz festival and has shared the stage with award-winning mus
 icians such as Steve Turre (Best Trombone and Best Miscellaneous Instr
 umentalist in JazzTimes, Downbeat, and Jazziz), Jim Head and Kent Sang
 ster (Juno nomination, Western Canadian Music Award).   Coming togethe
 r as The Bombadils, these four diverse musicians perform a combination
  of traditional and original music, both instrumental and vocal, both 
 English and French, both improvised and through-composed. For the past
  three years they have been performing regularly throughout Québec at
  pubs and cafés, local dances, weddings and concerts. Since their gra
 duation from McGill University's Schulich School of Music, The Bombadi
 ls have released their debut CD \"Fill Your Boots!\" and continue to p
 erform across Canada.  Doors 7:30, concert 8:00. $10 students, seniors
  and the unemployed; $13 in advance; $15 at the door. Tickets are avai
 lable at http://www.brownpapertickets.com/event/461823  Saturday, Dece
 mber 7 - BERKLEE COLLEGE OF MUSIC STRING QUARTETS (tba), ORCHESTRATED 
 BY DAROL ANGER \n\n\nFor more information visit http://neighborsfornei
 ghbors.org/events/eliot-street-coffeehouse-presents-the-bombadils
DTSTART:20131123T010000Z
DTEND:20131123T030000Z
CATEGORIES:concert
LOCATION:First Church in Jamaica Plain Unitarian-Universalist
WEBSITE:http://www.firstchurchjp.org/eliotstreetcoffeehouse/
URL:http://www.firstchurchjp.org/eliotstreetcoffeehouse/
CONTACT:
ORGANIZER;CN="Jeff Boudreau":http://neighborsforneighbors.org/profile/
 JeffBoudreau
ATTACH;FMTTYPE="image/jpeg":http://storage.ning.com/topology/rest/1.0/
 file/get/2245142012?profile=original
ATTENDEE;ROLE=REQ-PARTICIPANT;PARTSTAT=ACCEPTED;RSVP=TRUE;CN="Jeff Bou
 dreau":http://neighborsforneighbors.org/profile/JeffBoudreau
END:VEVENT
END:VCALENDAR
