BEGIN:VCALENDAR
PRODID:NingEventWidget-v1
VERSION:2.0
METHOD:PUBLISH
BEGIN:VEVENT
UID:1171189:Event:90233
DTSTAMP:20260421T204333Z
SUMMARY:Elma Lewis Playhouse Free Concert with the Boston Pops Brass E
 nsemble
DESCRIPTION:Back in Franklin Park after a twelve year hiatus, come to 
 Tanglewood East for a fabulous concert of classical, jazz, and popular
  tunes. Outdoors in Franklin Park, Roxbury. Bring a lawn chair and com
 e spend the day in the park at Boston’s new Circle the City with fre
 e fitness, games, and bikes for all ages beforehand. Elma Lewis After 
 the Sunday Boston Pops, Playhouse concerts will take place every Tuesd
 ay evening at 6pm from July 10th – 31st. Look for signs along the ma
 in park road directing you to Playhouse parking; take the #16 bus from
  the Orange Line / Forest Hills stop or the Red Line / JFK stop; or wa
 lk in and enjoy the park on the way. For more information, the Playhou
 se season line-up, and directions: www.franklinparkcoalition.org / 617
 -442-4141.\n\nFor more information visit http://neighborsforneighbors.
 org/events/elma-lewis-playhouse-free-concert-with-the-boston-pops-bras
 s
DTSTART:20120624T200000Z
DTEND:20120624T220000Z
CATEGORIES:concert
LOCATION:Franklin Park Playstead (Between White Stadium and the Frankl
 in Park Zoo)
WEBSITE:http://www.franklinparkcoalition.org
URL:http://www.franklinparkcoalition.org
CONTACT:617-442-4141
ORGANIZER;CN="Christine Poff":http://neighborsforneighbors.org/profile
 /ChristinePoff67
ATTACH;FMTTYPE="image/jpeg":
ATTENDEE;ROLE=REQ-PARTICIPANT;PARTSTAT=ACCEPTED;RSVP=TRUE;CN="Christin
 e Poff":http://neighborsforneighbors.org/profile/ChristinePoff67
END:VEVENT
END:VCALENDAR
