BEGIN:VCALENDAR
PRODID:NingEventWidget-v1
VERSION:2.0
METHOD:PUBLISH
BEGIN:VEVENT
UID:1171189:Event:90318
DTSTAMP:20260419T085932Z
SUMMARY:Elma Lewis Playhouse Free Concert with the Grooversity
DESCRIPTION:You won’t be able to sit still! Come parade through the 
 park, bang a drum, and dance with the wild and crazy Marcus Santos. Yo
 ung and old will be stepping and moving to this interactive concert wi
 th Afro Brazilian rhythms in Franklin Park, Roxbury. Summer camps welc
 ome! Playhouse concerts will take place every Tuesday evening in July 
 at 6pm through the 31st. Look for signs along the main park road direc
 ting you to Playhouse parking; take the #16 bus from the Orange Line /
  Forest Hills stop or the Red Line / JFK stop; or walk in and enjoy th
 e park on the way. For more information, the Playhouse season line-up,
  and directions: www.franklinparkcoalition.org / 617-442-4141.\n\nFor 
 more information visit http://neighborsforneighbors.org/events/elma-le
 wis-playhouse-free-concert-with-the-grooversity
DTSTART:20120710T150000Z
DTEND:20120710T170000Z
CATEGORIES:concert
LOCATION:Franklin Park Playstead (Between White Stadium and the Frankl
 in Park Zoo)
WEBSITE:http://www.franklinparkcoalition.org
URL:http://www.franklinparkcoalition.org
CONTACT:617-442-4141
ORGANIZER:Franklin Park Coalition
ATTACH;FMTTYPE="image/jpeg":http://storage.ning.com/topology/rest/1.0/
 file/get/2245139496?profile=original
ATTENDEE;ROLE=REQ-PARTICIPANT;PARTSTAT=ACCEPTED;RSVP=TRUE;CN="Christin
 e Poff":http://neighborsforneighbors.org/profile/ChristinePoff67
END:VEVENT
END:VCALENDAR
