BEGIN:VCALENDAR
PRODID:NingEventWidget-v1
VERSION:2.0
METHOD:PUBLISH
BEGIN:VEVENT
UID:1171189:Event:49484
DTSTAMP:20260421T215028Z
SUMMARY:Elma Lewis Playhouse in the Park: Kendrick Oliver & the New Li
 fe Jazz Orchestra
DESCRIPTION:This New England based group, inspired by the Count Basie,
  Duke Ellington, and other great big band artists, brings together jaz
 z, swing, and big band to breath new life into Old School sounds.\n\nL
 ocation: Elma Lewis Playhouse, near the play stead ball fields at the 
 rear entrance to the Franklin Park Zoo. By public transportation: Gree
 n St. stop on the Orange line or #16 bus.\n\nFor more information visi
 t http://neighborsforneighbors.org/events/elma-lewis-playhouse-in-the-
 2
DTSTART:20100810T220000Z
DTEND:20100811T010000Z
CATEGORIES:music, performance
LOCATION:Elma Lewis Playhouse in Franklin Park
WEBSITE:http://franklinprkcoalition.org
URL:http://franklinprkcoalition.org
CONTACT:617-442-4141
ORGANIZER:Franklin Park Coalition
ATTACH;FMTTYPE="image/jpeg":http://storage.ning.com/topology/rest/1.0/
 file/get/2245130085?profile=original
ATTENDEE;ROLE=REQ-PARTICIPANT;PARTSTAT=ACCEPTED;RSVP=TRUE;CN="Christin
 e Poff":http://neighborsforneighbors.org/profile/ChristinePoff67
END:VEVENT
END:VCALENDAR
