BEGIN:VCALENDAR
PRODID:NingEventWidget-v1
VERSION:2.0
METHOD:PUBLISH
BEGIN:VEVENT
UID:1171189:Event:50486
DTSTAMP:20260421T215028Z
SUMMARY:Elma Lewis Playhouse in the Park: Children’s Festival
DESCRIPTION:Come with friends and family to the last morning event of 
 the season at the Elma Lewis Playhouse in Franklin Park. The free fest
 ival will include music, food, face painting, and lots of other activi
 ties for kids.\n\nFor more information visit http://neighborsforneighb
 ors.org/events/elma-lewis-playhouse-in-the-3
DTSTART:20100817T140000Z
DTEND:20100817T180000Z
CATEGORIES:festival
LOCATION:Elma Lewis Playhouse in Franklin Park
WEBSITE:http://franklinprkcoalition.org
URL:http://franklinprkcoalition.org
CONTACT:617-442-4141
ORGANIZER:Franklin Park Coalition
ATTACH;FMTTYPE="image/jpeg":http://storage.ning.com/topology/rest/1.0/
 file/get/2245130338?profile=original
ATTENDEE;ROLE=REQ-PARTICIPANT;PARTSTAT=ACCEPTED;RSVP=TRUE;CN="Christin
 e Poff":http://neighborsforneighbors.org/profile/ChristinePoff67
END:VEVENT
END:VCALENDAR
