BEGIN:VCALENDAR
PRODID:NingEventWidget-v1
VERSION:2.0
METHOD:PUBLISH
BEGIN:VEVENT
UID:1171189:Event:63038
DTSTAMP:20260421T184223Z
SUMMARY:Ensemble 44 presents Music of Ladies of the French and Italian
  Baroque
DESCRIPTION:O\nn Sunday, February 6, 2011, at 3:00 pm. at the historic
  Loring-Greenough House, 12 South Street, Jamaica Plain, Ensemble 44: 
 Karen Burciaga, violin; Hannah Davidson, viola da gamba; Teri Kowiak, 
 voice and Kathy McDougald, harpsichord,   will present music of Barb
 ara Strozzi, Isabella Leonarda and Elisabeth-Claude Jacquet de la Guer
 re–female composers of 17th century France and Italy.\nTickets are a
 vailable at the door: donation $15 ($10 seniors, students and JPTC mem
 bers). Space is limited; reservations are suggested—call 617-524-315
 8 or email lghouseconcerts@aim.com. Afternoon tea follows the program.
 \n\nFor more information visit http://neighborsforneighbors.org/events
 /ensemble-44-presents-music-of
DTSTART:20110206T200000Z
DTEND:20110206T220000Z
CATEGORIES:parlor, concert, and, tea
LOCATION:Loring-Greenough House, 12 South St, Jamaica Plain
WEBSITE:
URL:
CONTACT:
ORGANIZER;CN="Loring-Greenough House Concerts":http://neighborsforneig
 hbors.org/profile/LoringGreenoughHouseConserts
ATTACH;FMTTYPE="image/jpeg":http://storage.ning.com/topology/rest/1.0/
 file/get/2245131655?profile=original
ATTENDEE;ROLE=REQ-PARTICIPANT;PARTSTAT=ACCEPTED;RSVP=TRUE;CN="Loring-G
 reenough House Concerts":http://neighborsforneighbors.org/profile/Lori
 ngGreenoughHouseConserts
END:VEVENT
END:VCALENDAR
