BEGIN:VCALENDAR
PRODID:NingEventWidget-v1
VERSION:2.0
METHOD:PUBLISH
BEGIN:VEVENT
UID:1171189:Event:85145
DTSTAMP:20260421T200404Z
SUMMARY:ESAC's 16th Annual Taste of JP
DESCRIPTION:Join us to taste samplings of the most wonderful cuisine f
 rom 22 local restaurants and 2 local breweries. Start your holiday sho
 pping early through our silent auction. Enjoy the jazz sounds of Rash
 eed Meadows group and spend time with your neighbors and friends.  E
 SAC is partnering with \"JP Buy Local\" Passport program to promote lo
 cal restaurants and businesses.  ESAC is a community-based nonprofit 
 founded 46 years ago. Proceeds help us provide foreclosure prevention 
 counseling, senior home repairs, education and home visits to help chi
 ldren and adults better manage their asthma through our Boston Asthma 
 Initiative, GED Plus classes and support for at-risk youth ages 16 - 2
 4, and the Egleston Square Peace Garden. It's a great event and opport
 unity to sample our local diverse restaurants' offerings. Come & enjoy
 !Tickets are available at our office at 3313 Washington Street Suite 5
  JP and online at our website www.esacboston.org. Tickets are $40 in a
 dvance or $45 at the door. Passport holders can purchase tickets at a 
 discount for $35 at the door.  Reserved tables are $450 (8 tickets).\
 n\nFor more information visit http://neighborsforneighbors.org/events/
 esac-s-16th-annual-taste-of-jp
DTSTART:20111117T233000Z
DTEND:20111118T020000Z
CATEGORIES:fundraiser
LOCATION:Cedars Hall  61 Rockwood Street
WEBSITE:http://www.esacboston.org
URL:http://www.esacboston.org
CONTACT:617-524-2555 ext. 102
ORGANIZER;CN="Bill Minkle":http://neighborsforneighbors.org/profile/Bi
 llMinkle
ATTACH;FMTTYPE="image/jpeg":
ATTENDEE;ROLE=REQ-PARTICIPANT;PARTSTAT=ACCEPTED;RSVP=TRUE;CN="Bill Min
 kle":http://neighborsforneighbors.org/profile/BillMinkle
END:VEVENT
END:VCALENDAR
