BEGIN:VCALENDAR
PRODID:NingEventWidget-v1
VERSION:2.0
METHOD:PUBLISH
BEGIN:VEVENT
UID:1171189:Event:92213
DTSTAMP:20260421T201401Z
SUMMARY:ESAC's 17th Annual Taste of Jamaica Plain
DESCRIPTION:ESAC's 17th Annual Taste of Jamaica Plain is ESAC's premie
 r fundraising event of the year.  Over 20 independently owned restaur
 ants & bakeries provide samplings of their specialties & delicious fav
 orites.  This is an opportunity to see your friends and neighbors whi
 le tasting samples from our very own best restaurants in Boston.  Com
 e support a community based multi-service agency serving JP and surrou
 nding neighborhoods of Boston since 1965.  You'll be supporting local
  business as well.  We have fabulous live jazz music, raffle, silent 
 auction & lots of fun.  Tickets are $40 in advance (buy online at www
 .esacboston.org.  or $45 at the door.  Don't miss this event!!\n\nFo
 r more information visit http://neighborsforneighbors.org/events/esac-
 s-17th-annual-taste-of-jamaica-plain
DTSTART:20121115T233000Z
DTEND:20121116T020000Z
CATEGORIES:fundraiser
LOCATION:Cedars Hall at Our Lady of the Cedars
WEBSITE:http://www.esacboston.org
URL:http://www.esacboston.org
CONTACT:1-617-524-2555
ORGANIZER;CN="Bill Minkle":http://neighborsforneighbors.org/profile/Bi
 llMinkle
ATTACH;FMTTYPE="image/jpeg":
ATTENDEE;ROLE=REQ-PARTICIPANT;PARTSTAT=ACCEPTED;RSVP=TRUE;CN="Bill Min
 kle":http://neighborsforneighbors.org/profile/BillMinkle
END:VEVENT
END:VCALENDAR
