BEGIN:VCALENDAR
PRODID:NingEventWidget-v1
VERSION:2.0
METHOD:PUBLISH
BEGIN:VEVENT
UID:1171189:Event:57411
DTSTAMP:20260421T201039Z
SUMMARY:ESAC's 15th Annual Taste of Jamaica Plain
DESCRIPTION:Join us to taste samplings of the most wonderful cuisine f
 rom 24 local restaurants and 2 local breweries. Start your holiday sho
 pping early through our silent auction. Enjoy the sounds of the Kevin 
 Harris Project and spend time with your neighbors and friends. ESAC is
  a community based nonprofit founded 45 years ago. Proceeds help us pr
 ovide foreclosure prevention counseling, senior home repairs, educatio
 n and home visits to help children and adults better manage their asth
 ma through our Boston Asthma Initiative, GED Plus classes and support 
 for youth ages 16 - 24, and the Egleston Square Peace Garden. It's a g
 reat event and opportunity to sample our locaal restaurants offerings.
  Come & enjoy!\nTickets are available at our office and online at our 
 website. Tickets are $35 in advance or $40 at the door. Reserved table
 s are $400 (8 tickets).\n\nFor more information visit http://neighbors
 forneighbors.org/events/esacs-15th-annual-taste-of
DTSTART:20101118T233000Z
DTEND:20101119T020000Z
CATEGORIES:fundraiser
LOCATION:Cedars Hall
WEBSITE:http://www.esacboston.org
URL:http://www.esacboston.org
CONTACT:617-524-2555
ORGANIZER;CN="Bill Minkle":http://neighborsforneighbors.org/profile/Bi
 llMinkle
ATTACH;FMTTYPE="image/jpeg":
ATTENDEE;ROLE=REQ-PARTICIPANT;PARTSTAT=ACCEPTED;RSVP=TRUE;CN="Bill Min
 kle":http://neighborsforneighbors.org/profile/BillMinkle
END:VEVENT
END:VCALENDAR
