BEGIN:VCALENDAR
PRODID:NingEventWidget-v1
VERSION:2.0
METHOD:PUBLISH
BEGIN:VEVENT
UID:1171189:Event:89605
DTSTAMP:20260421T194549Z
SUMMARY:Ethiopian at Blue Nile on May 17th
DESCRIPTION:Ethiopian is a refreshing change at dinnertime.  We get t
 o eat with our fingers, reach across the table, and steal our neighbo
 rs food.  On May 17th we'll be at Blue Nile, a Yelp four-star restau
 rant.  Right next to the Chinese Food Wall (a recommended takeout joi
 nt), this cozy, value-priced restaurant has impressed more than a few 
 Ethiopian foodies, even a few who have tried the formidable fare offer
 ed in Washington D.C., an Ethiopian mecca.  So we're going to see wha
 t all the fuss is about.\n\nWhen: May 17th,  7pm\nWhere: Blue Nile, 3
 89 Centre Street map\n\nCome out and join us!\nThis is part of our Th
 ird Thursdays JP Foodie Night series. \n\nRSVP\n\nFor more informatio
 n visit http://neighborsforneighbors.org/events/ethiopian-at-blue-nile
 -on-may-17th
DTSTART:20120517T230000Z
DTEND:20120518T020000Z
CATEGORIES:dinner
LOCATION:Blue Nile
WEBSITE:http://www.yelp.com/biz/blue-nile-restaurant-boston
URL:http://www.yelp.com/biz/blue-nile-restaurant-boston
CONTACT:(617) 522-6453
ORGANIZER;CN="Dan Hermes":http://neighborsforneighbors.org/profile/Dan
 Hermes
ATTACH;FMTTYPE="image/jpeg":
ATTENDEE;ROLE=REQ-PARTICIPANT;PARTSTAT=ACCEPTED;RSVP=TRUE;CN="Maria So
 sa":http://neighborsforneighbors.org/profile/MariaSosa
ATTENDEE;ROLE=REQ-PARTICIPANT;PARTSTAT=ACCEPTED;RSVP=TRUE;CN="Dan Herm
 es":http://neighborsforneighbors.org/profile/DanHermes
END:VEVENT
END:VCALENDAR
