BEGIN:VCALENDAR
PRODID:NingEventWidget-v1
VERSION:2.0
METHOD:PUBLISH
BEGIN:VEVENT
UID:1171189:Event:57401
DTSTAMP:20260421T180150Z
SUMMARY:Exploring the roots and symptoms of crime and violence
DESCRIPTION:Neighbors,\n\nLet's meet to begin working through the Fram
 ework for Action as it applies to understand the roots and symptoms of
  violence in our Neighborhood, and to understand who is doing what, an
 d what we can do to make a difference.\n\nAgenda:\n- Welcome: Why we a
 re here, what we will accomplish\n- Assign Time Cop, Tanget Cop, and N
 ote Taker.\n- Introductions: Your name, why your are here, your vision
  for the neighborhood - 1 Minute Each.\n- Walk through \"Discuss\"\n- 
 Identify and delegate action Items\n- Set next meeting date and locati
 on.\n\nDiscussion items:\n- What are our values and what do we want to
  achieve and for whom?\n- What are the problems and symptoms we are fa
 cing?\n- What data is available to us that shows what is currently goi
 ng on?\n-Who are the key stakeholders who must be engaged?\n- Who or w
 hat organizations are currently addressing these problems or opportuni
 ties?\n- What strategies and tactics have been effective at addressing
  these problems or opportunities?\n- What are the opportunities and im
 pacts that could be made?\n- What authority is needed and from whom?\n
 - What are we assuming?\n- What can we build on?\n- Are their short, m
 edium, and long term phase components?\n- What is our timeframe?\n- Wh
 at are our risks?\n- What's in our control vs outside?\n\nFor more inf
 ormation visit http://neighborsforneighbors.org/events/exploring-the-r
 oots-and
DTSTART:20101111T233000Z
DTEND:20101112T010000Z
CATEGORIES:workshop
LOCATION:Bella Luna Milky Way
WEBSITE:http://jamaicaplain.neighborsforneighbors.org/group/frameworkf
 oractiongroup
URL:http://jamaicaplain.neighborsforneighbors.org/group/frameworkforac
 tiongroup
CONTACT:857-222-4420
ORGANIZER;CN="Joseph Porcelli (Chief Neighbor)":http://neighborsfornei
 ghbors.org/profile/josephporcelli
ATTACH;FMTTYPE="image/jpeg":
ATTENDEE;ROLE=REQ-PARTICIPANT;PARTSTAT=ACCEPTED;RSVP=TRUE;CN="Rob Gupt
 ill":http://neighborsforneighbors.org/profile/RobGuptill
ATTENDEE;ROLE=REQ-PARTICIPANT;PARTSTAT=ACCEPTED;RSVP=TRUE;CN="Anna San
 doval":http://neighborsforneighbors.org/profile/AnnaS
ATTENDEE;ROLE=REQ-PARTICIPANT;PARTSTAT=ACCEPTED;RSVP=TRUE;CN="Kevin Ra
 insford":http://neighborsforneighbors.org/profile/KevinRainsford
ATTENDEE;ROLE=REQ-PARTICIPANT;PARTSTAT=ACCEPTED;RSVP=TRUE;CN="Anita Ho
 rn":http://neighborsforneighbors.org/profile/AnitaHorn
ATTENDEE;ROLE=REQ-PARTICIPANT;PARTSTAT=ACCEPTED;RSVP=TRUE;CN="Joseph P
 orcelli (Chief Neighbor)":http://neighborsforneighbors.org/profile/jos
 ephporcelli
ATTENDEE;ROLE=REQ-PARTICIPANT;PARTSTAT=TENTATIVE;RSVP=TRUE;CN="Brandon
  Abbs":http://neighborsforneighbors.org/profile/BrandonAbbs
END:VEVENT
END:VCALENDAR
