BEGIN:VCALENDAR
PRODID:NingEventWidget-v1
VERSION:2.0
METHOD:PUBLISH
BEGIN:VEVENT
UID:1171189:Event:58477
DTSTAMP:20260421T184119Z
SUMMARY:Extreme Esteem Coffee Holiday Party & Fundraiser
DESCRIPTION:EXTREME ESTEEM HOLIDAY GIFT COFFEE PARTY & FUNDRAISER\nSat
 urday, December 4th 10am-2PM\nTo support Self Esteem Boston’s progra
 ms for women\nIn shelters and transitional programs.\n\nPrudential Unl
 imited Realty\n673 Centre Street, Jamaica Plain\n\n• FREE COFFEE SAM
 PLES\n• PURCHASE EXTREME ESTEEM COFFEE\nFOR HOLIDAY GIFTS AND ENTERT
 AINING\n$5-$20 Regular and Decaf (Ground and Whole Bean)\n• CELEBRAT
 E YOURSELF NOTE CARDS AND TEE-SHIRTS\n• HOLIDAY GIFT RAFFLE ($5 per 
 ticket book) Prizes include\n2-night Stay on the Cape, Theatre Tickets
 , Red Sox Autographed Photo\n\nSponsored by: Prudential Unlimited Real
 ty, State Representative Jeffrey Sanchez, Representative Liz Malia, Ma
 yor Thomas Menino, Wainwright Bank & Trust Co.\nand City Feed\n\nFor m
 ore information visit http://neighborsforneighbors.org/events/extreme-
 esteem-coffee-holiday
DTSTART:20101204T150000Z
DTEND:20101204T190000Z
CATEGORIES:fundraiser, for, self, esteem, boston
LOCATION:Prudential Unlimited Realty
WEBSITE:http://www.selfesteemboston.com/events
URL:http://www.selfesteemboston.com/events
CONTACT:617-983-1111
ORGANIZER;CN="Self Esteem Boston":http://neighborsforneighbors.org/pro
 file/SelfEsteemBoston
ATTACH;FMTTYPE="image/jpeg":http://storage.ning.com/topology/rest/1.0/
 file/get/2245131130?profile=original
ATTENDEE;ROLE=REQ-PARTICIPANT;PARTSTAT=ACCEPTED;RSVP=TRUE;CN="Self Est
 eem Boston":http://neighborsforneighbors.org/profile/SelfEsteemBoston
END:VEVENT
END:VCALENDAR
