BEGIN:VCALENDAR
PRODID:NingEventWidget-v1
VERSION:2.0
METHOD:PUBLISH
BEGIN:VEVENT
UID:1171189:Event:42943
DTSTAMP:20260421T202029Z
SUMMARY:Fair Trade Fair
DESCRIPTION:Fair Trade Fair\n\nFeaturing:\nA SERRV marketplace\nFairly
  traded foods and handicrafts from across the globe\nCome buy a gift f
 or Mother's Day, graduations, weddings, baptisms, birthdays!\nStart yo
 ur Christmas Shopping Early!\n\n\n\"Just Desserts\" made with fair tra
 de ingredients - yummy!\n\n\nFree Workshops & entertainment on the hal
 f -hour\n\nFeaturing music by Bert Marshall at 12:30\nPresenations by 
 :\nBoston Faith And Justice Network at 10:30\nOikocredit on Fair Finan
 ce at 11:30\nNot For Sale on ending human traficking and slavery at 1:
 30\n\nFree Games & activities for all ages all day\n\nLocal social jus
 tice organizations sharing resources\n\nFree parking & accessible by T
  (Green Street stop)\n\nThis is part of the \"Fair Trade Crawl\" happe
 ning throughout Boston on May 8, sponsored by the Boston Faith and Jus
 tice Network. Visit at least 4 of the participating locations and be e
 ntered into a Fair Trade Raffle!\n\nWhat is Fair Trade?\nFair Trade is
  an alternative trade system that ensures that people along every step
  of the supply chain receive fair wages and are treated with dignity. 
 Fair Trade also ensure that producers take steps to preserve the envir
 onment and that some of the profit is invested back into the community
 . Buying fair trade products is a way to respect the producers of the 
 food and work towards ending extreme poverty by creating a more just w
 orld.\n\nCurrent Fair Trade Products include coffee, tea, sugar, flowe
 rs, sports balls, clothing, handicrafts, vanilla, chocolate, wine, oli
 ve oil and fruit.\n\nFor more information visit http://neighborsfornei
 ghbors.org/events/fair-trade-fair
DTSTART:20100508T140000Z
DTEND:20100508T190000Z
CATEGORIES:fair
LOCATION:Hope Central Church
WEBSITE:http://www.hopeboston.org
URL:http://www.hopeboston.org
CONTACT:
ORGANIZER;CN="Neeka Stanley":http://neighborsforneighbors.org/profile/
 NeekaStanley
ATTACH;FMTTYPE="image/jpeg":
ATTENDEE;ROLE=REQ-PARTICIPANT;PARTSTAT=ACCEPTED;RSVP=TRUE;CN="Neeka St
 anley":http://neighborsforneighbors.org/profile/NeekaStanley
END:VEVENT
END:VCALENDAR
