BEGIN:VCALENDAR
PRODID:NingEventWidget-v1
VERSION:2.0
METHOD:PUBLISH
BEGIN:VEVENT
UID:1171189:Event:72745
DTSTAMP:20260421T200619Z
SUMMARY:Family Festival--Forest Hills
DESCRIPTION:Yard Sale  *  Crafts  *  Baked goods  *  Wayne Potas
 h in Concert!\nSat. May 14, 9am-2pm Wayne Potash concet @ 12 noon, $5\
 n@ Covenant Congregational Church\n455 Arborway, next to the courthous
 e\nmore info @ www.cccfamilyfestival.com\nHope to see you there!\n\nFo
 r more information visit http://neighborsforneighbors.org/events/famil
 y-festivalforest-hills
DTSTART:20110514T130000Z
DTEND:20110514T180000Z
CATEGORIES:concert, yard, sale, children, community
LOCATION:Forest Hills
WEBSITE:http://www.cccfamilyfestival.com
URL:http://www.cccfamilyfestival.com
CONTACT:617-524-0775
ORGANIZER;CN="Fred Elliott-Hart":http://neighborsforneighbors.org/prof
 ile/FredElliottHart
ATTACH;FMTTYPE="image/jpeg":http://storage.ning.com/topology/rest/1.0/
 file/get/2245134702?profile=original
ATTENDEE;ROLE=REQ-PARTICIPANT;PARTSTAT=ACCEPTED;RSVP=TRUE;CN="Fred Ell
 iott-Hart":http://neighborsforneighbors.org/profile/FredElliottHart
END:VEVENT
END:VCALENDAR
