BEGIN:VCALENDAR
PRODID:NingEventWidget-v1
VERSION:2.0
METHOD:PUBLISH
BEGIN:VEVENT
UID:1171189:Event:36478
DTSTAMP:20260422T011401Z
SUMMARY:Family Pajama Storytime
DESCRIPTION:Come in your pajamas for stories, songs, cookies, and juic
 e!\n\nFor more information visit http://neighborsforneighbors.org/even
 ts/family-pajama-storytime
DTSTART:20100322T223000Z
DTEND:20100322T233000Z
CATEGORIES:storytime, kids
LOCATION:Connolly Branch Library
WEBSITE:http://www.bpl.org/branches/connolly.htm
URL:http://www.bpl.org/branches/connolly.htm
CONTACT:617-522-1960
ORGANIZER;CN="Connolly Branch Library":http://neighborsforneighbors.or
 g/profile/ConnollyBranchLibrary
ATTACH;FMTTYPE="image/jpeg":http://storage.ning.com/topology/rest/1.0/
 file/get/2186464672?profile=original
ATTENDEE;ROLE=REQ-PARTICIPANT;PARTSTAT=ACCEPTED;RSVP=TRUE;CN="Connolly
  Branch Library":http://neighborsforneighbors.org/profile/ConnollyBran
 chLibrary
END:VEVENT
END:VCALENDAR
