BEGIN:VCALENDAR
PRODID:NingEventWidget-v1
VERSION:2.0
METHOD:PUBLISH
BEGIN:VEVENT
UID:1171189:Event:34525
DTSTAMP:20260421T164503Z
SUMMARY:FEBRUARY OPENING RECEPTION @ THE HALLWAY GALLERY
DESCRIPTION:February's Featured Artists:\n\nANNA KOON, AL LEWIS & ANDR
 EA SANTOS\n\nwill be premiering their work on Thursday, February 4th, 
 with an OPENING RECEPTION 6-9pm.\n\nPASTEL GROUP will be performing @ 
 9pm.\n\nThe show will be up thru February 28th.\n\nGallery Hours-Thurs
 day thru Sunday 11-7pm.\n\nFor more information visit http://neighbors
 forneighbors.org/events/february-opening-reception
DTSTART:20100204T230000Z
DTEND:20100205T030000Z
CATEGORIES:art, opening
LOCATION:the hallway gallery
WEBSITE:http://www.thehallwayjp.com
URL:http://www.thehallwayjp.com
CONTACT:617-818-5996
ORGANIZER;CN="Brent Refsland":http://neighborsforneighbors.org/profile
 /BrentRefsland
ATTACH;FMTTYPE="image/jpeg":http://storage.ning.com/topology/rest/1.0/
 file/get/2245121814?profile=original
ATTENDEE;ROLE=REQ-PARTICIPANT;PARTSTAT=ACCEPTED;RSVP=TRUE;CN="Brent Re
 fsland":http://neighborsforneighbors.org/profile/BrentRefsland
END:VEVENT
END:VCALENDAR
