BEGIN:VCALENDAR
PRODID:NingEventWidget-v1
VERSION:2.0
METHOD:PUBLISH
BEGIN:VEVENT
UID:1171189:Event:59325
DTSTAMP:20260421T190004Z
SUMMARY:Ferris Wheels Holiday Party
DESCRIPTION:Please join us next Sunday, December 19, from 12-4 pm for 
 a holiday party at Ferris Wheels. We'll have live DJs, food, and fun! 
 Hope to see you there.\n\nFor more information visit http://neighborsf
 orneighbors.org/events/ferris-wheels-holiday-party
DTSTART:20101219T170000Z
DTEND:20101219T210000Z
CATEGORIES:"holiday party"
LOCATION:Ferris Wheels Bike Shop
WEBSITE:http://www.ferriswheelsbikeshop.com/index.php
URL:http://www.ferriswheelsbikeshop.com/index.php
CONTACT:617-524-BIKE
ORGANIZER;CN="Ferris Wheels Bike Shop":http://neighborsforneighbors.or
 g/profile/FerrisWheelsBikeShop
ATTACH;FMTTYPE="image/jpeg":http://storage.ning.com/topology/rest/1.0/
 file/get/2245131141?profile=original
ATTENDEE;ROLE=REQ-PARTICIPANT;PARTSTAT=ACCEPTED;RSVP=TRUE;CN="Ferris W
 heels Bike Shop":http://neighborsforneighbors.org/profile/FerrisWheels
 BikeShop
END:VEVENT
END:VCALENDAR
