BEGIN:VCALENDAR
PRODID:NingEventWidget-v1
VERSION:2.0
METHOD:PUBLISH
BEGIN:VEVENT
UID:1171189:Event:75762
DTSTAMP:20260422T011401Z
SUMMARY:Festival Garden in JP at Green Roots Festival
DESCRIPTION:Festival Garden in JP is the large raised bed that is next
  to the basket ball court at Stony Brook T in the Southwest Corridor P
 ark.  The intention is to grow food that can be picked by anyone, ras
 pberries, strawberries, herbs, whatever we plant.  As part of this pr
 oject there will be opportunities to be artistic (we should make the p
 lanting arrangements look ornamental), to learn about horticulture and
  permaculture, and to educate others about urban agriculture.\n \nWe'
 ll be there this Sunday, June 26th, at 12 noon until 5:00pm during the
  Bikes Not Bombs - Green Roots Festival (unless it rains again).  Sto
 p by and help, give us your ideas or just chat.\n \nAnd/or sign up to
  the Google Group - ﻿﻿﻿﻿﻿http://groups.google.com/group/fest
 ivalgardenjp\nOr look at the Web Site for the latest that is going on 
 - https://sites.google.com/site/festivalgardenjp/home\nor just stop by
  and say hello next time you see people at the garden!\n\nFor more inf
 ormation visit http://neighborsforneighbors.org/events/festival-garden
 -in-jp-at-green-1
DTSTART:20110626T160000Z
DTEND:20110626T210000Z
CATEGORIES:gardening
LOCATION:Southwest Corridor Park
WEBSITE:https://sites.google.com/site/festivalgardenjp/home
URL:https://sites.google.com/site/festivalgardenjp/home
CONTACT:
ORGANIZER;CN="Jenny Jones":http://neighborsforneighbors.org/profile/Je
 nnyJones
ATTACH;FMTTYPE="image/jpeg":http://storage.ning.com/topology/rest/1.0/
 file/get/2245133270?profile=original
ATTENDEE;ROLE=REQ-PARTICIPANT;PARTSTAT=ACCEPTED;RSVP=TRUE;CN="Jenny Jo
 nes":http://neighborsforneighbors.org/profile/JennyJones
END:VEVENT
END:VCALENDAR
