BEGIN:VCALENDAR
PRODID:NingEventWidget-v1
VERSION:2.0
METHOD:PUBLISH
BEGIN:VEVENT
UID:1171189:Event:81249
DTSTAMP:20260421T200210Z
SUMMARY:FHF: Cutting-Edge Corporate Giving
DESCRIPTION:In a lagging economy, corporations get creative to achieve
  the most bang for their charitable buck, and the result is a variety 
 of unique methods to lend a helping hand. Stacy Palmer, Editor of the 
 Chronicle of Philanthropy, reveals which giving is most helpful to gra
 ntees and which is obsolete. Dr. Len Schlesinger, President of Babson 
 University, tells us how businesses find causes that resonate with sta
 keholders, while Jim Koch, Founder of The Boston Beer Company, provide
 s a prime example of innovative corporate philanthropy through his “
 Samuel Adams Brewing the American Dream” program.\n \nWith moderato
 r George Donnelly, Editor of the Boston Business Journal, they discuss
  fascinating new corporate giving trends.\n\nFor more information visi
 t http://neighborsforneighbors.org/events/fhf-cutting-edge-corporate-g
 iving
DTSTART:20110922T223000Z
DTEND:20110923T000000Z
CATEGORIES:free, public, forum
LOCATION:Suffolk Law School, Main Function Room
WEBSITE:http://www.fordhallforum.org/programs/corporate-giving
URL:http://www.fordhallforum.org/programs/corporate-giving
CONTACT:617-557-2007
ORGANIZER:Ford Hall Forum
ATTACH;FMTTYPE="image/jpeg":
ATTENDEE;ROLE=REQ-PARTICIPANT;PARTSTAT=ACCEPTED;RSVP=TRUE;CN="Jennifer
  Bonardi":http://neighborsforneighbors.org/profile/JenniferBonardi
END:VEVENT
END:VCALENDAR
