BEGIN:VCALENDAR
PRODID:NingEventWidget-v1
VERSION:2.0
METHOD:PUBLISH
BEGIN:VEVENT
UID:1171189:Event:81252
DTSTAMP:20260422T044208Z
SUMMARY:FHF: From the Government & Here to Help
DESCRIPTION:From the financial crisis to Obamacare to the budget debat
 es, the size and scope of government is being debated across the count
 ry. One side calls for more regulation to foster equitable prosperity 
 because the free market is out of control. The other side says governm
 ent has grown too big and intrusive; we need to mitigate its power whi
 le rediscovering the founders' principles.\n \nDr. Yaron Brook, Execu
 tive Director of the Ayn Rand Institute, and Dr. David Callahan, Co-Fo
 under of Demos, join Ford Hall Forum President Dominick Ianno to debat
 e the fundamental social, economic, and moral ideas that underlie poli
 tics in America today.\n \n\nFor more information visit http://neighb
 orsforneighbors.org/events/fhf-from-the-government-here-to-help
DTSTART:20110929T223000Z
DTEND:20110930T000000Z
CATEGORIES:free, public, forum
LOCATION:C. Walsh Theatre, Suffolk University
WEBSITE:http://www.fordhallforum.org/programs/help
URL:http://www.fordhallforum.org/programs/help
CONTACT:617-557-2007
ORGANIZER:Ford Hall Forum
ATTACH;FMTTYPE="image/jpeg":
ATTENDEE;ROLE=REQ-PARTICIPANT;PARTSTAT=ACCEPTED;RSVP=TRUE;CN="Jennifer
  Bonardi":http://neighborsforneighbors.org/profile/JenniferBonardi
END:VEVENT
END:VCALENDAR
