BEGIN:VCALENDAR
PRODID:NingEventWidget-v1
VERSION:2.0
METHOD:PUBLISH
BEGIN:VEVENT
UID:1171189:Event:81061
DTSTAMP:20260421T232305Z
SUMMARY:FHF: The New Boston Miracle
DESCRIPTION:Gang and drug warfare fuels violence and leads to prison o
 r death for countless youth, mostly minority males; this well-worn pat
 tern plagues cities across the world. Criminologist and author of Donâ
 €™t Shoot, David M. Kennedy, tells how he addressed this scourge in th
 e 1990s with the successful â€śBoston Miracle.â€ť Rev. Dr. Emmett Pric
 e, who counsels at-risk Boston youth through hip hop music, discusses 
 funeral fatigue, copycat criminals, and the new rules of engagement. U
 .S. Attorney for Massachusetts Carmen Ortiz shares with us her plans t
 o mitigate violent crime through the Organized Crime Strike Force/Gang
  Unit.\nÂ \nThe three come together with Ford Hall Forum Vice Presiden
 t Donald Tye for a conversation about the past, present, and future of
  inner-city youth violence in Boston and beyond.Â \n\nFor more informa
 tion visit http://neighborsforneighbors.org/events/fhf-the-new-boston-
 miracle
DTSTART:20111013T223000Z
DTEND:20111014T000000Z
CATEGORIES:free, public, forum
LOCATION:Modern Theatre
WEBSITE:http://www.fordhallforum.org/programs/miracle
URL:http://www.fordhallforum.org/programs/miracle
CONTACT:617-557-2007
ORGANIZER:Ford Hall Forum
ATTACH;FMTTYPE="image/jpeg":
ATTENDEE;ROLE=REQ-PARTICIPANT;PARTSTAT=ACCEPTED;RSVP=TRUE;CN="Jennifer
  Bonardi":http://neighborsforneighbors.org/profile/JenniferBonardi
END:VEVENT
END:VCALENDAR
