BEGIN:VCALENDAR
PRODID:NingEventWidget-v1
VERSION:2.0
METHOD:PUBLISH
BEGIN:VEVENT
UID:1171189:Event:81155
DTSTAMP:20260421T232511Z
SUMMARY:FHF: \"The Real Paper\": Journalism Then & Now
DESCRIPTION:Ford Hall Forum Vice President and former Real Paper journ
 alist Monica Collins assembles this riveting Real Paper reunion with H
 arper Barnes, Jan Freeman, Laura Shapiro, Paul Solman, and Mark Zanger
 . Hear how this free newspaper’s laudable format of an employee-run 
 collective was, ironically, its undoing as the opportunity to sell aro
 se, as did interpersonal conflict.\n \nTheir experience with The Real
  Paper yields surprising views on modern-day journalism, including sus
 tainable and fair business models, the future of free newspapers in a 
 world of internet media, and whether journalists in today’s economy 
 should strike out on their own.\n\nFor more information visit http://n
 eighborsforneighbors.org/events/fhf-the-real-paper-journalism-then-now
DTSTART:20110915T223000Z
DTEND:20110916T000000Z
CATEGORIES:free, public, forum
LOCATION:C. Walsh Theatre, Suffolk University
WEBSITE:http://www.fordhallforum.org/programs/realpaper
URL:http://www.fordhallforum.org/programs/realpaper
CONTACT:617-557-2007
ORGANIZER:Ford Hall Forum
ATTACH;FMTTYPE="image/jpeg":
ATTENDEE;ROLE=REQ-PARTICIPANT;PARTSTAT=ACCEPTED;RSVP=TRUE;CN="Jennifer
  Bonardi":http://neighborsforneighbors.org/profile/JenniferBonardi
END:VEVENT
END:VCALENDAR
