BEGIN:VCALENDAR
PRODID:NingEventWidget-v1
VERSION:2.0
METHOD:PUBLISH
BEGIN:VEVENT
UID:1171189:Event:64790
DTSTAMP:20260421T185414Z
SUMMARY:Film Showing: Earn-A-Bike on Nevis Island and Boston
DESCRIPTION:THE POWER OF EARN-A-BIKE Stories from Nevis Island and Bos
 tonWednesday, February 9th, 7:00pmat: Bikes Not Bombs Hub, 284 Amory S
 treet, Jamaica Plain, MAJoin us for a unique presentation that will hi
 ghlight Bikes Not Bombs’ Earn-A-Bike youth projects in the Island of
  Nevis and here in Boston!This past summer, International Programs Dir
 ector David Branigan visited the Earn-A-Bike project in Nevis. David w
 ill show a short film shot during his visit and discuss the strengths 
 and challenges of the program, the increased involvement of government
  agencies, and the tremendous potential for the expansion in the next 
 2-3 years.Youth Programs Coordinator Elijah Evans, who visited the Ear
 n-A-Bike Nevis project in 2009, will take a look into the historical, 
 political and cultural context of Nevis, and what the implications are
  today. Elijah is also a graduate of the Earn-A-Bike program in Boston
 , which he now oversees. Elijah will discuss the power of Earn-A-Bike 
 to impact young people, the connections between the Earn-A-Bike progra
 ms in Nevis and Boston, and a vision for the future. Finally, we’ll 
 hear from a panel of Youth Instructors who have graduated from BNB’s
  youth programs in Boston and now teach their younger peers. These you
 ng people will share their personal experiences with Earn-A-Bike and t
 he program’s impact on their lives. This event is free and open to t
 he public. It is a potluck so please consider bringing something to sh
 are. For more information, contact Allie Hunter at allie@bikesnotbombs
 .org or 617-522-0222.Event info: http://bikesnotbombs.org/nevis-eab\n\
 nFor more information visit http://neighborsforneighbors.org/events/fi
 lm-showing-earnabike-on
DTSTART:20110210T000000Z
DTEND:20110210T020000Z
CATEGORIES:film, presentation, discussion
LOCATION:Bikes Not Bombs - Hub location
WEBSITE:http://bikesnotbombs.org/nevis-eab
URL:http://bikesnotbombs.org/nevis-eab
CONTACT:617-522-0222
ORGANIZER;CN="Bikes Not Bombs":http://neighborsforneighbors.org/profil
 e/ArikGrier
ATTACH;FMTTYPE="image/jpeg":http://storage.ning.com/topology/rest/1.0/
 file/get/2245132252?profile=original
ATTENDEE;ROLE=REQ-PARTICIPANT;PARTSTAT=ACCEPTED;RSVP=TRUE;CN="Bikes No
 t Bombs":http://neighborsforneighbors.org/profile/ArikGrier
END:VEVENT
END:VCALENDAR
