BEGIN:VCALENDAR
PRODID:NingEventWidget-v1
VERSION:2.0
METHOD:PUBLISH
BEGIN:VEVENT
UID:1171189:Event:86981
DTSTAMP:20260421T215235Z
SUMMARY:FINE ART & CRAFT HOLIDAY FAIR hosted by Eliot Hall/Footlight C
 lub and UFORGE Gallery
DESCRIPTION:Shop local and support artists for your holiday gifts! Pur
 chase something much better and more unique than what you can get at t
 he mall!\nHoliday Art Fair hosted by Eliot Hall/Footlight Club and UFO
 RGE Gallery\nSaturday & Sunday, December 17 & 18, 11am-5pm\nThis 2-day
  event will feature more than 35 of the best local artisans selling pr
 oducts ranging from one-of-a-kind clothing, glass, and jewelry to fine
  art.\nMy color photography will be on display at UFORGE Gallery (more
  artists will be at the Footlight Club Theater, 7A Eliot Street). See 
 my website for a preview\nIf you can't make it to the art fair, or you
 'd like to view a larger selection of my prints (space is limited at t
 he gallery), appointments can be made with me through Thursday, Decemb
 er 22. I have prints in sizes from 8x10\" to 16x20\"; just matted or m
 atted and framed, as well as photo cards. If you'd like to purchase a 
 gift certificate, please contact me by Tuesday, December 20.\n\nFor mo
 re information visit http://neighborsforneighbors.org/events/fine-art-
 craft-holiday-fair-hosted-by-eliot-hall-footlight-club
DTSTART:20111217T160000Z
DTEND:20111218T220000Z
CATEGORIES:art, sale
LOCATION:Uforge Gallery
WEBSITE:http://maps.google.com/maps?q=767+Centre+Street,+Boston,+MA&hl
 =en&sll=42.310085,-71.115186&sspn=0.006308,0.013518&vpsrc=0&hnear=767+
 Centre+St,+Boston,+Massachusetts+02130&t=h&z=17
URL:http://maps.google.com/maps?q=767+Centre+Street,+Boston,+MA&hl=en&
 sll=42.310085,-71.115186&sspn=0.006308,0.013518&vpsrc=0&hnear=767+Cent
 re+St,+Boston,+Massachusetts+02130&t=h&z=17
CONTACT:Jennifer Uhrhane: 617-938-4351
ORGANIZER:Eliot Hall/Footlight Club and UFORGE Gallery
ATTACH;FMTTYPE="image/jpeg":http://storage.ning.com/topology/rest/1.0/
 file/get/2245136497?profile=original
ATTENDEE;ROLE=REQ-PARTICIPANT;PARTSTAT=ACCEPTED;RSVP=TRUE;CN=Jennifer:
 http://neighborsforneighbors.org/profile/Jennifer
END:VEVENT
END:VCALENDAR
