BEGIN:VCALENDAR
PRODID:NingEventWidget-v1
VERSION:2.0
METHOD:PUBLISH
BEGIN:VEVENT
UID:1171189:Event:85753
DTSTAMP:20260421T202242Z
SUMMARY:First Church Jamaica Plain Holiday Fair
DESCRIPTION:Join us on December 3rd for some Festive Holiday Fun!\n*Ov
 er 50 Artists*\n*Fabulous Hot Lunches*\n*Boston City Singers*\n*Join a
  Joyful Caroling Mob*\n \n\nFor more information visit http://neighbo
 rsforneighbors.org/events/first-church-jamaica-plain-holiday-fair
DTSTART:20111203T160000Z
DTEND:20111203T220000Z
CATEGORIES:holiday, arts, fair
LOCATION:First Church Jamaica Plain Unitarian Universalist
WEBSITE:http://www.firstchurchjp.org
URL:http://www.firstchurchjp.org
CONTACT:617-524-1634
ORGANIZER;CN=Patricia:http://neighborsforneighbors.org/profile/Patrici
 a216
ATTACH;FMTTYPE="image/jpeg":http://storage.ning.com/topology/rest/1.0/
 file/get/2245135309?profile=original
ATTENDEE;ROLE=REQ-PARTICIPANT;PARTSTAT=ACCEPTED;RSVP=TRUE;CN=Patricia:
 http://neighborsforneighbors.org/profile/Patricia216
END:VEVENT
END:VCALENDAR
