BEGIN:VCALENDAR
PRODID:NingEventWidget-v1
VERSION:2.0
METHOD:PUBLISH
BEGIN:VEVENT
UID:1171189:Event:42910
DTSTAMP:20260421T194055Z
SUMMARY:First Thursday Art Stroll
DESCRIPTION:First Thursday features over 30 venues along Centre & Sout
 h Streets offering art exhibits of local artists, live music, great fo
 od & fun! Please check our blog for an updated listing of the evening'
 s events.\n\nFor more information visit http://neighborsforneighbors.o
 rg/events/first-thursday-art-stroll
DTSTART:20100506T220000Z
DTEND:20100507T000000Z
CATEGORIES:art, stroll
LOCATION:JP Centre/ South business district
WEBSITE:http://www.jpfirstthursdays.blogspot.com
URL:http://www.jpfirstthursdays.blogspot.com
CONTACT:
ORGANIZER:JP Centre/South Main Streets
ATTACH;FMTTYPE="image/jpeg":http://storage.ning.com/topology/rest/1.0/
 file/get/2202583848?profile=original
ATTENDEE;ROLE=REQ-PARTICIPANT;PARTSTAT=ACCEPTED;RSVP=TRUE;CN="Lynda Wa
 tson":http://neighborsforneighbors.org/profile/LyndaWatson
END:VEVENT
END:VCALENDAR
