BEGIN:VCALENDAR
PRODID:NingEventWidget-v1
VERSION:2.0
METHOD:PUBLISH
BEGIN:VEVENT
UID:1171189:Event:39223
DTSTAMP:20260421T185557Z
SUMMARY:Fix A Flat Demo
DESCRIPTION:Watch and learn as we demonstrate how to fix a flat tire o
 n a bicycle. Questions are welcome. This demo is free.\n\nFor more inf
 ormation visit http://neighborsforneighbors.org/events/fix-a-flat-demo
DTSTART:20100408T231500Z
DTEND:20100409T001500Z
CATEGORIES:"how-to demo"
LOCATION:Ferris Wheels Bike Shop
WEBSITE:http://www.ferriswheelsbikeshop.com
URL:http://www.ferriswheelsbikeshop.com
CONTACT:617-524-2453
ORGANIZER;CN="Ferris Wheels Bike Shop":http://neighborsforneighbors.or
 g/profile/FerrisWheelsBikeShop
ATTACH;FMTTYPE="image/jpeg":
ATTENDEE;ROLE=REQ-PARTICIPANT;PARTSTAT=ACCEPTED;RSVP=TRUE;CN="Ferris W
 heels Bike Shop":http://neighborsforneighbors.org/profile/FerrisWheels
 BikeShop
END:VEVENT
END:VCALENDAR
