BEGIN:VCALENDAR
PRODID:NingEventWidget-v1
VERSION:2.0
METHOD:PUBLISH
BEGIN:VEVENT
UID:1171189:Event:74524
DTSTAMP:20260422T010732Z
SUMMARY:Flat Fixing Class (Free)
DESCRIPTION:Learn to fix a flat! Reserve your spot by calling 617-524-
 BIKE (2453) or emailing Info@FerrisWheelsBikeShop.com. FREE.\n\nFor mo
 re information visit http://neighborsforneighbors.org/events/flat-fixi
 ng-class-free
DTSTART:20110626T213000Z
DTEND:20110626T230000Z
CATEGORIES:class, lecture, discussion, bikes
LOCATION:Ferris Wheels Bike Shop
WEBSITE:http://www.ferriswheelsbikeshop.com
URL:http://www.ferriswheelsbikeshop.com
CONTACT:617-524-2453
ORGANIZER;CN="Ferris Wheels Bike Shop":http://neighborsforneighbors.or
 g/profile/FerrisWheelsBikeShop
ATTACH;FMTTYPE="image/jpeg":http://storage.ning.com/topology/rest/1.0/
 file/get/2104696579?profile=original
ATTENDEE;ROLE=REQ-PARTICIPANT;PARTSTAT=ACCEPTED;RSVP=TRUE;CN="Ferris W
 heels Bike Shop":http://neighborsforneighbors.org/profile/FerrisWheels
 BikeShop
END:VEVENT
END:VCALENDAR
