BEGIN:VCALENDAR
PRODID:NingEventWidget-v1
VERSION:2.0
METHOD:PUBLISH
BEGIN:VEVENT
UID:1171189:Event:82670
DTSTAMP:20260422T011248Z
SUMMARY:Flat Tire Bike Repair Class
DESCRIPTION:Absolutely everything you'd ever want or need to know abou
 t fixing flat tires on your bike. This is a hands-on repair class; bri
 ng your bicycle! $30/person. Register in the shop or call 617-524-2453
 .\n\nFor more information visit http://neighborsforneighbors.org/event
 s/flat-tire-bike-repair-class
DTSTART:20111013T231500Z
DTEND:20111014T020000Z
CATEGORIES:"repair class"
LOCATION:Ferris Wheels Bike Shop
WEBSITE:http://www.ferriswheelsbikeshop.com
URL:http://www.ferriswheelsbikeshop.com
CONTACT:617-524-2453
ORGANIZER;CN="Ferris Wheels Bike Shop":http://neighborsforneighbors.or
 g/profile/FerrisWheelsBikeShop
ATTACH;FMTTYPE="image/jpeg":http://storage.ning.com/topology/rest/1.0/
 file/get/2104696579?profile=original
ATTENDEE;ROLE=REQ-PARTICIPANT;PARTSTAT=ACCEPTED;RSVP=TRUE;CN="Ferris W
 heels Bike Shop":http://neighborsforneighbors.org/profile/FerrisWheels
 BikeShop
END:VEVENT
END:VCALENDAR
