BEGIN:VCALENDAR
PRODID:NingEventWidget-v1
VERSION:2.0
METHOD:PUBLISH
BEGIN:VEVENT
UID:1171189:Event:60773
DTSTAMP:20260421T234018Z
SUMMARY:Flats Repair Class
DESCRIPTION:Absolutely everything you'd ever want or need to know abou
 t fixing flat tires. This class is hands-on, so bring your bike!$30 pe
 r person, limited to 7 participants. To register, call 617-524-BIKE or
  stop by the shop.\n\nFor more information visit http://neighborsforne
 ighbors.org/events/flats-repair-class
DTSTART:20110121T000000Z
DTEND:20110121T020000Z
CATEGORIES:workshop
LOCATION:Ferris Wheels Bike Shop
WEBSITE:http://www.ferriswheelsbikeshop.com
URL:http://www.ferriswheelsbikeshop.com
CONTACT:617-524-2453
ORGANIZER;CN="Ferris Wheels Bike Shop":http://neighborsforneighbors.or
 g/profile/FerrisWheelsBikeShop
ATTACH;FMTTYPE="image/jpeg":http://storage.ning.com/topology/rest/1.0/
 file/get/2104696579?profile=original
ATTENDEE;ROLE=REQ-PARTICIPANT;PARTSTAT=ACCEPTED;RSVP=TRUE;CN="Ferris W
 heels Bike Shop":http://neighborsforneighbors.org/profile/FerrisWheels
 BikeShop
END:VEVENT
END:VCALENDAR
