BEGIN:VCALENDAR
PRODID:NingEventWidget-v1
VERSION:2.0
METHOD:PUBLISH
BEGIN:VEVENT
UID:1171189:Event:113857
DTSTAMP:20260421T200108Z
SUMMARY:Flora's Holiday
DESCRIPTION:Celebrate the coming of spring with “Flora’s Holiday
  a unique story and music journey through Tower Hill Botanic Gardens.
   This event, specially crafted by master storyteller Diane Edgecomb 
 accompanied by Celtic harper Margot Chamberlain leads the audience to 
 some of the garden’s most beloved spots. Locations include an expans
 ive field of 25,000 daffodils, a forest glade where Pan presides, the 
 heritage apple orchard in full bloom and an open-air gazebo where the 
 haunting Persian legend of the Nightingale and the Rose will be told. 
 The evening’s tales are drawn from Ancient Greek, Roman, Norse, and 
 Native American cultures delving into the mythical origins and meaning
 s of favorite garden plants. Venture into spring with this enchanting 
 evening stroll through Tower Hill’s botanic paradise.\nAppropriate f
 or adults and young people ages twelve years and above. Bring a cushio
 n to sit on if you wish. The performance takes place rain or shine. In
  the event of severe weather, it will be held in Tower Hills Stoddard 
 Education Center Theater.\nTwo performances: Friday, May 1 and Saturda
 y, May 2, 6-8pm Member $25, Non-member $30\nEach performance is limite
 d to an audience of 30, so buy tickets early.\n\nFor more information 
 visit http://neighborsforneighbors.org/events/flora-s-holiday-1
DTSTART:20150502T220000Z
DTEND:20150503T000000Z
CATEGORIES:storytelling, concert, walk
LOCATION:Tower Hill Botanic Garden
WEBSITE:http://bit.ly/celebratethemay
URL:http://bit.ly/celebratethemay
CONTACT:508.869.6111
ORGANIZER;CN="Diane Edgecomb":http://neighborsforneighbors.org/profile
 /DianeEdgecomb
ATTACH;FMTTYPE="image/jpeg":http://storage.ning.com/topology/rest/1.0/
 file/get/2245142785?profile=original
ATTENDEE;ROLE=REQ-PARTICIPANT;PARTSTAT=ACCEPTED;RSVP=TRUE;CN="Diane Ed
 gecomb":http://neighborsforneighbors.org/profile/DianeEdgecomb
END:VEVENT
END:VCALENDAR
