BEGIN:VCALENDAR
PRODID:NingEventWidget-v1
VERSION:2.0
METHOD:PUBLISH
BEGIN:VEVENT
UID:1171189:Event:89558
DTSTAMP:20260421T200804Z
SUMMARY:Flute and Guitar Concert and First Parish Church in Dorchester
DESCRIPTION:First Parish Church in Dorchester\nPresents\nDuo Diavolo\n
 flute, guitar &\nVenezuelan cuatro\nDuo Diavolo’s program features A
 rgentine tangos for flute and guitar by Astor Piazzolla,\nVenezuelan W
 altzes by Antonio Lauro for guitar and Venezuelan cuatro (a ukulele on
 \nsteroids), a Spanish dance by Enrique Granados, an esoteric image of
  Cape Cod by Toru\nTakemitsu for alto-flute and guitar, and an epic ra
 ga by the North Indian classical music\nmaster Ravi Shankar for flute 
 and guitar.\nSunday, April 15, 2012, 3:00 PM\nFirst Parish Church, Uni
 tarian Universalist\n10 Parish St., Dorchester, MA 02122\n617 436 0527
 \nfirstparishdorchester.org\nmusic@firstparishdorchester.org\nfree, do
 nations accepted\nparking available\n\nFor more information visit http
 ://neighborsforneighbors.org/events/flute-and-guitar-concert-and-first
 -parish-church-in-dorchester
DTSTART:20120415T190000Z
DTEND:20120415T220000Z
CATEGORIES:concert
LOCATION:First Parish Church in Dorchester
WEBSITE:
URL:
CONTACT:617-436-0527
ORGANIZER;CN="Douglas Shaheen":http://neighborsforneighbors.org/profil
 e/DouglasShaheen
ATTACH;FMTTYPE="image/jpeg":
ATTENDEE;ROLE=REQ-PARTICIPANT;PARTSTAT=ACCEPTED;RSVP=TRUE;CN="Douglas 
 Shaheen":http://neighborsforneighbors.org/profile/DouglasShaheen
END:VEVENT
END:VCALENDAR
