BEGIN:VCALENDAR
PRODID:NingEventWidget-v1
VERSION:2.0
METHOD:PUBLISH
BEGIN:VEVENT
UID:1171189:Event:54766
DTSTAMP:20260421T214758Z
SUMMARY:Food Connection for Justice
DESCRIPTION:Explore some delicious Pan-Asian cuisine at Food Connectio
 n for Justice on October 23rd from 1-3PM. Join Socializing for Justice
  at the Super 88 Food Court in Allston/Brighton - come by yourself or 
 bring your hungry friends!\n\nWe'll be taking over a section of the fo
 od court so we can sit together, but you can order from any of the foo
 d stalls. There will be a few connoisseurs with us to help navigate th
 e plethora of cuisine options: Chinese, Japanese, Thai, Korean, Vietna
 mese, and Indian. Get a head start salivating by checking out these Ye
 lp reviews.\n\nRSVP on our www.sojust.org so we know how many seats to
  save together.\nCOST: $2 to cover group expenses (plus the cost of yo
 ur meal).\n\nLook no further if you're seeking like-minded progressive
 s to eat dim sum with, want to cross-promote your events and campaigns
  while enjoying noodle soup or savoring sushi, or are new to the area 
 and looking for groups to get involved in. If you want to build a stro
 ng cross-issue social justice community, network and movement, SoJust 
 is for you!\n\nYES, WE MEAN YOU. We've got members of all ages, races,
  genders, sexual orientations, levels of activism and professions. We 
 hope you see someone like yourself and meet someone you otherwise woul
 dn't have.\n\nHow to get there:\nSuper 88 is located at 1095 Commonwea
 lth Avenue in Allston/Brighton on the Green Line at Packards Corner T 
 stop (intersection of Brighton and Comm Ave). There is a parking lot a
 nd it's on on the #66 bus route.\n\nWant to connect outside of SoJust 
 events? Members can view and post events, job & volunteer announcement
 s, roommate searches, etc. on the 'Message Board' at http://www.sojust
 .org.\n\nFollow us on Twitter: @SoJust and @RobbieSamuels (SoJust's co
 -founder)\n\nSocializing for Justice - http://www.sojust.org\nSince 20
 06, we've been building this great sandbox where we can bring progress
 ives of all stripes together and try out new ideas in this \"Movement 
 Moment\". Spaces like this are crucial as we start to reframe and buil
 d new visions for our movement(s).\n\nWith over 1400 members and 4+ ye
 ars of creating a diverse cross-issue community in Boston, Socializing
  for Justice is the best place to find the great people, organizations
  and community you're looking for while putting the SOCIAL back in soc
 ial justice.\n\nFor more information visit http://neighborsforneighbor
 s.org/events/food-connection-for-justice
DTSTART:20101023T170000Z
DTEND:20101023T190000Z
CATEGORIES:food, social, justice, meetup
LOCATION:Super 88 Food Court
WEBSITE:
URL:
CONTACT:http://www.sojust.org/calendar/14837293/
ORGANIZER:Socializing for Justice
ATTACH;FMTTYPE="image/jpeg":http://storage.ning.com/topology/rest/1.0/
 file/get/2245131242?profile=original
ATTENDEE;ROLE=REQ-PARTICIPANT;PARTSTAT=ACCEPTED;RSVP=TRUE;CN="Robin Bz
 ura":http://neighborsforneighbors.org/profile/RobinBzura
END:VEVENT
END:VCALENDAR
