BEGIN:VCALENDAR
PRODID:NingEventWidget-v1
VERSION:2.0
METHOD:PUBLISH
BEGIN:VEVENT
UID:1171189:Event:64508
DTSTAMP:20260421T203900Z
SUMMARY:Food Security in Jamaica Plain and New England
DESCRIPTION:Speakers: Hugh Joseph (Tufts University), Glynn Lloyd (Ci
 ty Growers) and Jamey Lionette and Edith Murnane (City of Boston)\nAs 
 part of the JP New Economy Transition series, this forum will look at 
 the current state of food security and food justice in the northeast. 
 It will also explore how our community can work to strengthen the loca
 l food economy. Our expert panel will explore questions such as:\n\nHo
 w vulnerable are we to disruption in food supply?\nWhere do our calori
 es come from? How many are produced in our region?\nWhat are the easie
 st interventions our community can make to enhance our food security?\
 nWhat are the bigger policy interventions and food system redesign goa
 ls?\n\nThe city of Boston’s first Food Policy Director, Edith Murnan
 e, will moderate the evening’s panel. Come find out more and share y
 our ideas about Food Security in Jamaica Plain. \n\nFor more informati
 on visit http://neighborsforneighbors.org/events/food-security-in-jama
 ica-plain
DTSTART:20110204T000000Z
DTEND:20110204T020000Z
CATEGORIES:discussion
LOCATION:First Church in Jamaica Plain UU, 6 Eliot Street (Across from
  the monument)
WEBSITE:
URL:
CONTACT:
ORGANIZER;CN="Liz W.":http://neighborsforneighbors.org/profile/LizW
ATTACH;FMTTYPE="image/jpeg":http://storage.ning.com/topology/rest/1.0/
 file/get/2245132112?profile=original
ATTENDEE;ROLE=REQ-PARTICIPANT;PARTSTAT=ACCEPTED;RSVP=TRUE;CN="Liz W.":
 http://neighborsforneighbors.org/profile/LizW
END:VEVENT
END:VCALENDAR
