BEGIN:VCALENDAR
PRODID:NingEventWidget-v1
VERSION:2.0
METHOD:PUBLISH
BEGIN:VEVENT
UID:1171189:Event:67589
DTSTAMP:20260421T220711Z
SUMMARY:Ford Hall Forum: Bittersweet Humanitarianism w/Ashley Judd
DESCRIPTION:The Ford Hall Forum presents amazing speakers on riveting 
 topics. Our programs are always free and always open to the public. We
 're big fans of the First Amendment and encourage not only our speaker
 s to exercise it but our audience members as well.\n\nAshley Judd, awa
 rd-winning actress, humanitarian, and author of \"All That Is Bitter a
 nd Sweet\" joins moderator Candelaria Silva, author and Roxbury Film F
 estival founder, to discuss Judd’s experiences in feminist social ju
 stice work to discover the relationship between healing oneself and he
 aling others.\n\nFor more information visit http://neighborsforneighbo
 rs.org/events/ford-hall-forum-bittersweet
DTSTART:20110408T223000Z
DTEND:20110409T000000Z
CATEGORIES:forum
LOCATION:C. Walsh Theatre, Suffolk University
WEBSITE:http://www.fordhallforum.org/programs/judd
URL:http://www.fordhallforum.org/programs/judd
CONTACT:
ORGANIZER;CN="Jennifer Bonardi":http://neighborsforneighbors.org/profi
 le/JenniferBonardi
ATTACH;FMTTYPE="image/jpeg":
ATTENDEE;ROLE=REQ-PARTICIPANT;PARTSTAT=ACCEPTED;RSVP=TRUE;CN="Jennifer
  Bonardi":http://neighborsforneighbors.org/profile/JenniferBonardi
END:VEVENT
END:VCALENDAR
