BEGIN:VCALENDAR
PRODID:NingEventWidget-v1
VERSION:2.0
METHOD:PUBLISH
BEGIN:VEVENT
UID:1171189:Event:67432
DTSTAMP:20260421T214757Z
SUMMARY:Ford Hall Forum: Never Say Die
DESCRIPTION:The Ford Hall Forum presents amazing speakers on riveting 
 topics. Our programs are always free and always open to the public. We
 're big fans of the First Amendment and encourage not only our speaker
 s to exercise it but our audience members as well.\n \nJohn Seager, C
 EO of Population Connection (formerly Zero Population growth) and Mich
 ael B. Fossel, author of “The Immortality Edge,” will mull over le
 ngthening our life spans as an exciting and inevitable reality or as a
  worrisome recipe for overpopulation and fighting over already-scarce 
 resources.\n\nFor more information visit http://neighborsforneighbors.
 org/events/ford-hall-forum-never-say-die
DTSTART:20110414T223000Z
DTEND:20110415T000000Z
CATEGORIES:forum
LOCATION:Moot Court Room, Suffolk Law School
WEBSITE:http://www.fordhallforum.org/programs/never-say-die
URL:http://www.fordhallforum.org/programs/never-say-die
CONTACT:
ORGANIZER;CN="Jennifer Bonardi":http://neighborsforneighbors.org/profi
 le/JenniferBonardi
ATTACH;FMTTYPE="image/jpeg":
ATTENDEE;ROLE=REQ-PARTICIPANT;PARTSTAT=ACCEPTED;RSVP=TRUE;CN="Jennifer
  Bonardi":http://neighborsforneighbors.org/profile/JenniferBonardi
END:VEVENT
END:VCALENDAR
