BEGIN:VCALENDAR
PRODID:NingEventWidget-v1
VERSION:2.0
METHOD:PUBLISH
BEGIN:VEVENT
UID:1171189:Event:67119
DTSTAMP:20260421T202240Z
SUMMARY:Ford Hall Forum: The Weather at War
DESCRIPTION:The Ford Hall Forum presents amazing speakers on riveting 
 topics. Our programs are always free and always open to the public. We
 're big fans of the First Amendment and encourage not only our speaker
 s to exercise it but our audience members as well.\n \nWith Rachel Kl
 einfeld from the Truman Project, Carl Ferenbach from the Environmental
  Defense Fund, and MA State Rep. Harold Naughton, this power-packed pa
 nel is going to break down why global climate change is suddenly a nat
 ional security issue and how the United States Pentagon is addressing 
 it.\n\nFor more information visit http://neighborsforneighbors.org/eve
 nts/ford-hall-forum-the-weather-at
DTSTART:20110407T223000Z
DTEND:20110408T000000Z
CATEGORIES:forum
LOCATION:Main Function Room, Suffolk Law School, 1st floor
WEBSITE:http://www.fordhallforum.org/programs/weather
URL:http://www.fordhallforum.org/programs/weather
CONTACT:
ORGANIZER;CN="Jennifer Bonardi":http://neighborsforneighbors.org/profi
 le/JenniferBonardi
ATTACH;FMTTYPE="image/jpeg":
ATTENDEE;ROLE=REQ-PARTICIPANT;PARTSTAT=ACCEPTED;RSVP=TRUE;CN="Jennifer
  Bonardi":http://neighborsforneighbors.org/profile/JenniferBonardi
END:VEVENT
END:VCALENDAR
