BEGIN:VCALENDAR
PRODID:NingEventWidget-v1
VERSION:2.0
METHOD:PUBLISH
BEGIN:VEVENT
UID:1171189:Event:88689
DTSTAMP:20260421T195850Z
SUMMARY:Foreclosure Prevention Clinic
DESCRIPTION:ESAC is co-sponsoring a Foreclosure Prevention Clinic with
  the City of Boston Home Center for homeowners who are interested in l
 earning about foreclosure prevention and/or may need intervention serv
 ices.  ESAC works with homeowners for FREE (NO COST) to assist with n
 avigating the foreclosure process through the services of our HUD cert
 ified counseling staff.\n\nFor more information visit http://neighbors
 forneighbors.org/events/foreclosure-prevention-clinic
DTSTART:20120221T230000Z
DTEND:20120222T010000Z
CATEGORIES:workshop, "&", information, clinic
LOCATION:ESAC Sustainable Homeownership Center
WEBSITE:http://esacboston.org
URL:http://esacboston.org
CONTACT:617-524-2555
ORGANIZER:Bill Minkle, Percy Stallworth, Virginia Pratt, Steve Bennett
 , Jenny Effron
ATTACH;FMTTYPE="image/jpeg":
ATTENDEE;ROLE=REQ-PARTICIPANT;PARTSTAT=ACCEPTED;RSVP=TRUE;CN="Bill Min
 kle":http://neighborsforneighbors.org/profile/BillMinkle
END:VEVENT
END:VCALENDAR
