BEGIN:VCALENDAR
PRODID:NingEventWidget-v1
VERSION:2.0
METHOD:PUBLISH
BEGIN:VEVENT
UID:1171189:Event:91398
DTSTAMP:20260421T222805Z
SUMMARY:Foreclosure Prevention Forum
DESCRIPTION:ESAC Sustainable Homeownership Center  \nDon't get rippe
 d off!  Don't pay anyone for loan modification or foreclosure prevent
 ion counseling.  Use only HUD-certified services.\nTo learn how to av
 oid foreclosure, please attend this Forum in your neighborhood.\n\nFor
  more information visit http://neighborsforneighbors.org/events/forecl
 osure-prevention-forum-1
DTSTART:20120927T220000Z
DTEND:20120928T000000Z
CATEGORIES:community, education
LOCATION:The Community Room at the Boston Police Department, District 
 E-18
WEBSITE:http://www.esacboston.org
URL:http://www.esacboston.org
CONTACT:(617) 524-2555
ORGANIZER:ESAC (Ecumenical Social Action Committee)
ATTACH;FMTTYPE="image/jpeg":
ATTENDEE;ROLE=REQ-PARTICIPANT;PARTSTAT=ACCEPTED;RSVP=TRUE;CN="Linda A.
  Morfin":http://neighborsforneighbors.org/profile/LindaAMorfin
END:VEVENT
END:VCALENDAR
